BEGIN:VCALENDAR
VERSION:2.0
PRODID:SchoolNow
CALSCALE:GREGORIAN
BEGIN:VEVENT
UID:5378b464-82a6-11f0-be17-0affe844e53d
DTSTAMP:20250826T175852Z
SUMMARY:CDD Board Meeting - May 2026
LOCATION:Club at Monterra\, 8451 Monterra Boulevard\, Cooper City\, FL 3302
 4
URL;VALUE=URI:https://www.monterracdd.com/calendar/8545955/cdd-board-meetin
 g-may-2026
DTSTART:20260506T220000Z
DTEND:20260506T230000Z
END:VEVENT
END:VCALENDAR
