BEGIN:VCALENDAR
VERSION:2.0
PRODID:SchoolNow
CALSCALE:GREGORIAN
BEGIN:VEVENT
UID:703ffd9a-57e8-11ee-9892-02774828289f
DTSTAMP:20240311T172550Z
SUMMARY:CDD Board Meeting - Feb. 2024 - Cancelled
LOCATION:Club at Monterra\, 8451 Monterra Boulevard\, Cooper City\, FL 3302
 4
URL;VALUE=URI:https://www.monterracdd.com/calendar/4766623/cdd-board-meetin
 g-feb-2024
DTSTART:20240219T230000Z
DTEND:20240220T000000Z
ATTACH;FILENAME=2024-02-19 Monterra Agenda.pdf;FMTTYPE=application/pdf:http
 s://campussuite-storage.s3.amazonaws.com/prod/1559012/293819a8-608b-11ea-b
 493-1255ad83f1a7/2740361/a7ff7b1e-c9dc-11ee-83bc-0e56ef454687/file/2024-02
 -19 Monterra Agenda.pdf
END:VEVENT
END:VCALENDAR
