BEGIN:VCALENDAR
VERSION:2.0
PRODID:SchoolNow
CALSCALE:GREGORIAN
BEGIN:VEVENT
UID:653cb6fe-57e8-11ee-b929-025a290185c1
DTSTAMP:20240108T201852Z
SUMMARY:CDD Board Meeting - Jan. 2024
LOCATION:Club at Monterra\, 8451 Monterra Boulevard\, Cooper City\, FL 3302
 4
URL;VALUE=URI:https://www.monterracdd.com/calendar/4766621/cdd-board-meetin
 g-jan-2024
DTSTART:20240115T230000Z
DTEND:20240116T000000Z
ATTACH;FILENAME=2024-01-15 Monterra Agenda.pdf;FMTTYPE=application/pdf:http
 s://campussuite-storage.s3.amazonaws.com/prod/1559012/293819a8-608b-11ea-b
 493-1255ad83f1a7/2723414/2110075c-ae63-11ee-8710-022a7da71e3d/file/2024-01
 -15 Monterra Agenda.pdf
END:VEVENT
END:VCALENDAR
