BEGIN:VCALENDAR
VERSION:2.0
PRODID:SchoolNow
CALSCALE:GREGORIAN
BEGIN:VEVENT
UID:5a95a6ac-57e8-11ee-abbd-0e6120933f63
DTSTAMP:20231211T193336Z
SUMMARY:CDD Board Meeting - Dec. 2023
LOCATION:Club at Monterra\, 8451 Monterra Boulevard\, Cooper City\, FL 3302
 4
URL;VALUE=URI:https://www.monterracdd.com/calendar/4766620/cdd-board-meetin
 g-dec-2023
DTSTART:20231218T230000Z
DTEND:20231219T000000Z
ATTACH;FILENAME=2023-12-18 Monterra Agenda.pdf;FMTTYPE=application/pdf:http
 s://campussuite-storage.s3.amazonaws.com/prod/1559012/293819a8-608b-11ea-b
 493-1255ad83f1a7/2712510/2b559bd6-985c-11ee-af1a-0a58a9feac02/file/2023-12
 -18 Monterra Agenda.pdf
END:VEVENT
END:VCALENDAR
