BEGIN:VCALENDAR
VERSION:2.0
PRODID:SchoolNow
CALSCALE:GREGORIAN
BEGIN:VEVENT
UID:519063a8-57e8-11ee-be5e-0ea8776c1f05
DTSTAMP:20231114T160635Z
SUMMARY:CDD Board Meeting - Nov. 2023
LOCATION:Club at Monterra\, 8451 Monterra Boulevard\, Cooper City\, FL 3302
 4
URL;VALUE=URI:https://www.monterracdd.com/calendar/4766619/cdd-board-meetin
 g-nov-2023
DTSTART:20231120T230000Z
DTEND:20231121T000000Z
ATTACH;FILENAME=2023-11-20 Monterra Agenda for Posting.pdf;FMTTYPE=applicat
 ion/pdf:https://campussuite-storage.s3.amazonaws.com/prod/1559012/293819a8
 -608b-11ea-b493-1255ad83f1a7/2700222/4d5529d2-8267-11ee-99d9-02989f2bbb57/
 file/2023-11-20 Monterra Agenda for Posting.pdf
END:VEVENT
END:VCALENDAR
