BEGIN:VCALENDAR
VERSION:2.0
PRODID:SchoolNow
CALSCALE:GREGORIAN
BEGIN:VEVENT
UID:474217ac-57e8-11ee-afdb-0a58a9feac02
DTSTAMP:20231009T172848Z
SUMMARY:CDD Board Meeting - Oct. 2023
LOCATION:Club at Monterra\, 8451 Monterra Boulevard\, Cooper City\, FL 3302
 4
URL;VALUE=URI:https://www.monterracdd.com/calendar/4766618/cdd-board-meetin
 g-oct-2023
DTSTART:20231016T220000Z
DTEND:20231016T230000Z
ATTACH;FILENAME=2023-10-16 Monterra Agenda.pdf;FMTTYPE=application/pdf:http
 s://campussuite-storage.s3.amazonaws.com/prod/1559012/293819a8-608b-11ea-b
 493-1255ad83f1a7/2678120/4b5fe87e-66c9-11ee-9c25-0a58a9feac02/file/2023-10
 -16 Monterra Agenda.pdf
END:VEVENT
END:VCALENDAR
