BEGIN:VCALENDAR
VERSION:2.0
PRODID:SchoolNow
CALSCALE:GREGORIAN
BEGIN:VEVENT
UID:ad1bbf96-39d6-11ed-a1bd-0e7c6467d009
DTSTAMP:20220921T175610Z
SUMMARY:CDD Board Meeting - Sept. 2023
LOCATION:Club at Monterra\, 8451 Monterra Boulevard\, Cooper City\, FL 3302
 4
URL;VALUE=URI:https://www.monterracdd.com/calendar/3423643/cdd-board-meetin
 g-sept-2023
DTSTART:20230918T220000Z
DTEND:20230918T230000Z
END:VEVENT
END:VCALENDAR
