BEGIN:VCALENDAR
VERSION:2.0
PRODID:SchoolNow
CALSCALE:GREGORIAN
BEGIN:VEVENT
UID:8db6f742-39d6-11ed-9307-0e7c6467d009
DTSTAMP:20230815T191825Z
SUMMARY:CDD Board Meeting - Aug. 2023
LOCATION:Club at Monterra\, 8451 Monterra Boulevard\, Cooper City\, FL 3302
 4
URL;VALUE=URI:https://www.monterracdd.com/calendar/3423642/cdd-board-meetin
 g-aug-2023
DTSTART:20230821T220000Z
DTEND:20230821T230000Z
ATTACH;FILENAME=2023-08-21 Monterra Agenda.pdf;FMTTYPE=application/pdf:http
 s://campussuite-storage.s3.amazonaws.com/prod/1559012/293819a8-608b-11ea-b
 493-1255ad83f1a7/2643183/7e92b4aa-3ba0-11ee-82fb-026259b665e5/file/2023-08
 -21 Monterra Agenda.pdf
END:VEVENT
END:VCALENDAR
