BEGIN:VCALENDAR
VERSION:2.0
PRODID:SchoolNow
CALSCALE:GREGORIAN
BEGIN:VEVENT
UID:8121127e-39d6-11ed-99df-0e7c6467d009
DTSTAMP:20230710T130622Z
SUMMARY:CDD Board Meeting - Jul. 2023
LOCATION:Club at Monterra\, 8451 Monterra Boulevard\, Cooper City\, FL 3302
 4
URL;VALUE=URI:https://www.monterracdd.com/calendar/3423641/cdd-board-meetin
 g-jul-2023
DTSTART:20230717T220000Z
DTEND:20230717T230000Z
ATTACH;FILENAME=2023-07-17 Monterra Agenda.pdf;FMTTYPE=application/pdf:http
 s://campussuite-storage.s3.amazonaws.com/prod/1559012/293819a8-608b-11ea-b
 493-1255ad83f1a7/2628018/8edb3408-1f22-11ee-8ae2-0a99d40c9e07/file/2023-07
 -17 Monterra Agenda.pdf
END:VEVENT
END:VCALENDAR
