BEGIN:VCALENDAR
VERSION:2.0
PRODID:SchoolNow
CALSCALE:GREGORIAN
BEGIN:VEVENT
UID:5435c534-39d6-11ed-800c-0e7c6467d009
DTSTAMP:20230612T141331Z
SUMMARY:CDD Board Meeting - Jun. 2023
LOCATION:Club at Monterra\, 8451 Monterra Boulevard\, Cooper City\, FL 3302
 4
URL;VALUE=URI:https://www.monterracdd.com/calendar/3423640/cdd-board-meetin
 g-jun-2023
DTSTART:20230619T220000Z
DTEND:20230619T230000Z
ATTACH;FILENAME=2023-06-19 Monterra Agenda.pdf;FMTTYPE=application/pdf:http
 s://campussuite-storage.s3.amazonaws.com/prod/1559012/293819a8-608b-11ea-b
 493-1255ad83f1a7/2611823/4cf81040-092b-11ee-9d45-0e9541df08cf/file/2023-06
 -19 Monterra Agenda.pdf
END:VEVENT
END:VCALENDAR
