BEGIN:VCALENDAR
VERSION:2.0
PRODID:SchoolNow
CALSCALE:GREGORIAN
BEGIN:VEVENT
UID:486f6e9e-39d6-11ed-91c3-0e7c6467d009
DTSTAMP:20230508T204318Z
SUMMARY:CDD Board Meeting - May 2023
LOCATION:Club at Monterra\, 8451 Monterra Boulevard\, Cooper City\, FL 3302
 4
URL;VALUE=URI:https://www.monterracdd.com/calendar/3423639/cdd-board-meetin
 g-may-2023
DTSTART:20230515T220000Z
DTEND:20230515T230000Z
ATTACH;FILENAME=2023-05-15 Monterra Agenda.pdf;FMTTYPE=application/pdf:http
 s://campussuite-storage.s3.amazonaws.com/prod/1559012/293819a8-608b-11ea-b
 493-1255ad83f1a7/2589993/f45e5bca-ede0-11ed-a160-02038a931fe1/file/2023-05
 -15 Monterra Agenda.pdf
END:VEVENT
END:VCALENDAR
