BEGIN:VCALENDAR
VERSION:2.0
PRODID:SchoolNow
CALSCALE:GREGORIAN
BEGIN:VEVENT
UID:3e6a69d0-39d6-11ed-bd4b-0e7c6467d009
DTSTAMP:20230410T175623Z
SUMMARY:CDD Board Meeting - Apr. 2023
LOCATION:Club at Monterra\, 8451 Monterra Boulevard\, Cooper City\, FL 3302
 4
URL;VALUE=URI:https://www.monterracdd.com/calendar/3423638/cdd-board-meetin
 g-apr-2023
DTSTART:20230417T220000Z
DTEND:20230417T230000Z
ATTACH;FILENAME=2023-04-17 Monterra Agenda.pdf;FMTTYPE=application/pdf:http
 s://campussuite-storage.s3.amazonaws.com/prod/1559012/293819a8-608b-11ea-b
 493-1255ad83f1a7/2578285/fe30a852-d7c8-11ed-8926-0a1f9f4a6f67/file/2023-04
 -17 Monterra Agenda.pdf
END:VEVENT
END:VCALENDAR
