BEGIN:VCALENDAR
VERSION:2.0
PRODID:SchoolNow
CALSCALE:GREGORIAN
BEGIN:VEVENT
UID:3424cbaa-39d6-11ed-966a-0e7c6467d009
DTSTAMP:20230313T204736Z
SUMMARY:CDD Board Meeting - Mar. 2023
LOCATION:Club at Monterra\, 8451 Monterra Boulevard\, Cooper City\, FL 3302
 4
URL;VALUE=URI:https://www.monterracdd.com/calendar/3423637/cdd-board-meetin
 g-mar-2023
DTSTART:20230320T220000Z
DTEND:20230320T230000Z
ATTACH;FILENAME=2023-03-20 Monterra Agenda.pdf;FMTTYPE=application/pdf:http
 s://campussuite-storage.s3.amazonaws.com/prod/1559012/293819a8-608b-11ea-b
 493-1255ad83f1a7/2564954/bf170d40-c1df-11ed-97ac-0e3bbdc2dc57/file/2023-03
 -20 Monterra Agenda.pdf
END:VEVENT
END:VCALENDAR
