BEGIN:VCALENDAR
VERSION:2.0
PRODID:SchoolNow
CALSCALE:GREGORIAN
BEGIN:VEVENT
UID:2a1b92c4-39d6-11ed-ac09-0e7c6467d009
DTSTAMP:20230213T152436Z
SUMMARY:CDD Board Meeting - Feb. 2023
LOCATION:Club at Monterra\, 8451 Monterra Boulevard\, Cooper City\, FL 3302
 4
URL;VALUE=URI:https://www.monterracdd.com/calendar/3423636/cdd-board-meetin
 g-feb-2023
DTSTART:20230220T230000Z
DTEND:20230221T000000Z
ATTACH;FILENAME=2023-02-20 Modified Monterra Agenda 002.pdf;FMTTYPE=applica
 tion/pdf:https://campussuite-storage.s3.amazonaws.com/prod/1559012/293819a
 8-608b-11ea-b493-1255ad83f1a7/2550689/844b63d4-abb2-11ed-af50-0a41df7c07af
 /file/2023-02-20 Modified Monterra Agenda 002.pdf
END:VEVENT
END:VCALENDAR
