BEGIN:VCALENDAR
VERSION:2.0
PRODID:SchoolNow
CALSCALE:GREGORIAN
BEGIN:VEVENT
UID:1edeed16-39d6-11ed-894f-0e7c6467d009
DTSTAMP:20230109T175323Z
SUMMARY:CDD Board Meeting - Jan. 2023
LOCATION:Club at Monterra\, 8451 Monterra Boulevard\, Cooper City\, FL 3302
 4
URL;VALUE=URI:https://www.monterracdd.com/calendar/3423635/cdd-board-meetin
 g-jan-2023
DTSTART:20230116T230000Z
DTEND:20230117T000000Z
ATTACH;FILENAME=2023-01-16 Monterra Agenda.pdf;FMTTYPE=application/pdf:http
 s://campussuite-storage.s3.amazonaws.com/prod/1559012/293819a8-608b-11ea-b
 493-1255ad83f1a7/2534460/80781824-9046-11ed-aaee-0a3aaac73949/file/2023-01
 -16 Monterra Agenda.pdf
END:VEVENT
END:VCALENDAR
