BEGIN:VCALENDAR
VERSION:2.0
PRODID:SchoolNow
CALSCALE:GREGORIAN
BEGIN:VEVENT
UID:b4d3f660-624f-11ea-adfc-0a8a7cdfad85
DTSTAMP:20200609T161833Z
SUMMARY:CDD Board Meeting - Jun. 2020 - Cancelled
LOCATION:Club at Monterra\, 8451 Monterra Boulevard\, Cooper City\, FL 3302
 4
URL;VALUE=URI:https://www.monterracdd.com/calendar/2216191/cdd-board-meetin
 g-jun-2020-cancelled
DTSTART:20200615T220000Z
DTEND:20200615T230000Z
END:VEVENT
END:VCALENDAR
